BEGIN:VCALENDAR
VERSION:2.0
PRODID:-//Legacy Ventures - ECPv6.15.17//NONSGML v1.0//EN
CALSCALE:GREGORIAN
METHOD:PUBLISH
X-ORIGINAL-URL:https://www.legacyventures.org
X-WR-CALDESC:Events for Legacy Ventures
REFRESH-INTERVAL;VALUE=DURATION:PT1H
X-Robots-Tag:noindex
X-PUBLISHED-TTL:PT1H
BEGIN:VTIMEZONE
TZID:America/New_York
BEGIN:DAYLIGHT
TZOFFSETFROM:-0500
TZOFFSETTO:-0400
TZNAME:EDT
DTSTART:20200308T070000
END:DAYLIGHT
BEGIN:STANDARD
TZOFFSETFROM:-0400
TZOFFSETTO:-0500
TZNAME:EST
DTSTART:20201101T060000
END:STANDARD
BEGIN:DAYLIGHT
TZOFFSETFROM:-0500
TZOFFSETTO:-0400
TZNAME:EDT
DTSTART:20210314T070000
END:DAYLIGHT
BEGIN:STANDARD
TZOFFSETFROM:-0400
TZOFFSETTO:-0500
TZNAME:EST
DTSTART:20211107T060000
END:STANDARD
BEGIN:DAYLIGHT
TZOFFSETFROM:-0500
TZOFFSETTO:-0400
TZNAME:EDT
DTSTART:20220313T070000
END:DAYLIGHT
BEGIN:STANDARD
TZOFFSETFROM:-0400
TZOFFSETTO:-0500
TZNAME:EST
DTSTART:20221106T060000
END:STANDARD
END:VTIMEZONE
BEGIN:VEVENT
DTSTART;TZID=America/New_York:20210410T110000
DTEND;TZID=America/New_York:20210410T150000
DTSTAMP:20260424T132016
CREATED:20200620T120820Z
LAST-MODIFIED:20201025T022135Z
UID:1019-1618052400-1618066800@www.legacyventures.org
SUMMARY:Perfecting Your Pricing
DESCRIPTION:P It’s time for your business to get paid what you’re worth! Register today for the Perfecting Your Pricing workshop as we will talk about the essentials to pricing your products and services. We’ll cover… \n  \n– Finding the right price for your offerings\n– Discovering your value position\n– Creating plan to finance your business growth\n– Developing Proposals they can’t say no to \n  \n \n  \nWe’ll have an in-depth discussions about developing your pricing strategy\, the difference between pricing products and services\, and help you find that sweet spot for your business.  PLUS you’ll get exclusive one-on-one time with a business or sales consultant from Aeonian Ovia! \nLimited Seating is available.
URL:https://www.legacyventures.org/event/perfecting-your-pricing-2021/
LOCATION:Aeonian Ovia\, 37 North Orange Avenue\, Orlando\, FL\, 32801\, United States
CATEGORIES:Business,Education,Workshop
ATTACH;FMTTYPE=image/jpeg:https://www.legacyventures.org/wp-content/uploads/2019/06/PYP-workshop.jpg
END:VEVENT
BEGIN:VEVENT
DTSTART;TZID=America/New_York:20210206T100000
DTEND;TZID=America/New_York:20210206T150000
DTSTAMP:20260424T132016
CREATED:20200620T070827Z
LAST-MODIFIED:20200624T152811Z
UID:3101-1612605600-1612623600@www.legacyventures.org
SUMMARY:PITCH - Networking and Relationship Building
DESCRIPTION:L This is your chance to craft your perfect PITCH! Many business owners already understand how important it is to effectively communicate what your business does.  But\, in this workshop\, you’ll learn why it’s even more important to be able to convey “who” your business is\, and how in today’s society\, THAT is the key to getting people captivated.  You’ll learn how to leverage all you are\, and all you know\, to convey the marketing message of your business precisely. \nLearn how to create your pitch to make sure its has personality\, flair\, and draws people towards you! \nIn this workshop you will uncover:\n\nYour Business’ Approach\nYour Unique Selling Proposition\nHow to Convey Your Business Marketing Message\nHow to Attract Using Your Business Personality\n…and How to Say it All\n\nMost importantly\, this workshop teaches how to take those PITCH conversations to the next level and get the person you’re speaking with to… Follow you off the elevator! \n  \nCheck Back Soon to Get Your Tickets for PITCH!\n 
URL:https://www.legacyventures.org/event/pitch-workshop-2020/
LOCATION:Nora Community Room\, 899 North Orange Avenue\, Orlando\, FL\, 32801\, United States
CATEGORIES:Business,Workshop
ATTACH;FMTTYPE=image/jpeg:https://www.legacyventures.org/wp-content/uploads/2019/06/pitch-event.jpg
END:VEVENT
END:VCALENDAR